BEGIN:VCALENDAR
VERSION:2.0
PRODID:-//Association des sociétés chorales d&#039;Alsace - ECPv6.15.20//NONSGML v1.0//EN
CALSCALE:GREGORIAN
METHOD:PUBLISH
X-WR-CALNAME:Association des sociétés chorales d&#039;Alsace
X-ORIGINAL-URL:https://asca-chorales-alsace.com
X-WR-CALDESC:Évènements pour Association des sociétés chorales d&#039;Alsace
REFRESH-INTERVAL;VALUE=DURATION:PT1H
X-Robots-Tag:noindex
X-PUBLISHED-TTL:PT1H
BEGIN:VTIMEZONE
TZID:Europe/Paris
BEGIN:DAYLIGHT
TZOFFSETFROM:+0100
TZOFFSETTO:+0200
TZNAME:CEST
DTSTART:20180325T010000
END:DAYLIGHT
BEGIN:STANDARD
TZOFFSETFROM:+0200
TZOFFSETTO:+0100
TZNAME:CET
DTSTART:20181028T010000
END:STANDARD
BEGIN:DAYLIGHT
TZOFFSETFROM:+0100
TZOFFSETTO:+0200
TZNAME:CEST
DTSTART:20190331T010000
END:DAYLIGHT
BEGIN:STANDARD
TZOFFSETFROM:+0200
TZOFFSETTO:+0100
TZNAME:CET
DTSTART:20191027T010000
END:STANDARD
BEGIN:DAYLIGHT
TZOFFSETFROM:+0100
TZOFFSETTO:+0200
TZNAME:CEST
DTSTART:20200329T010000
END:DAYLIGHT
BEGIN:STANDARD
TZOFFSETFROM:+0200
TZOFFSETTO:+0100
TZNAME:CET
DTSTART:20201025T010000
END:STANDARD
BEGIN:DAYLIGHT
TZOFFSETFROM:+0100
TZOFFSETTO:+0200
TZNAME:CEST
DTSTART:20210328T010000
END:DAYLIGHT
BEGIN:STANDARD
TZOFFSETFROM:+0200
TZOFFSETTO:+0100
TZNAME:CET
DTSTART:20211031T010000
END:STANDARD
BEGIN:DAYLIGHT
TZOFFSETFROM:+0100
TZOFFSETTO:+0200
TZNAME:CEST
DTSTART:20220327T010000
END:DAYLIGHT
BEGIN:STANDARD
TZOFFSETFROM:+0200
TZOFFSETTO:+0100
TZNAME:CET
DTSTART:20221030T010000
END:STANDARD
BEGIN:DAYLIGHT
TZOFFSETFROM:+0100
TZOFFSETTO:+0200
TZNAME:CEST
DTSTART:20230326T010000
END:DAYLIGHT
BEGIN:STANDARD
TZOFFSETFROM:+0200
TZOFFSETTO:+0100
TZNAME:CET
DTSTART:20231029T010000
END:STANDARD
BEGIN:DAYLIGHT
TZOFFSETFROM:+0100
TZOFFSETTO:+0200
TZNAME:CEST
DTSTART:20240331T010000
END:DAYLIGHT
BEGIN:STANDARD
TZOFFSETFROM:+0200
TZOFFSETTO:+0100
TZNAME:CET
DTSTART:20241027T010000
END:STANDARD
BEGIN:DAYLIGHT
TZOFFSETFROM:+0100
TZOFFSETTO:+0200
TZNAME:CEST
DTSTART:20250330T010000
END:DAYLIGHT
BEGIN:STANDARD
TZOFFSETFROM:+0200
TZOFFSETTO:+0100
TZNAME:CET
DTSTART:20251026T010000
END:STANDARD
BEGIN:DAYLIGHT
TZOFFSETFROM:+0100
TZOFFSETTO:+0200
TZNAME:CEST
DTSTART:20260329T010000
END:DAYLIGHT
BEGIN:STANDARD
TZOFFSETFROM:+0200
TZOFFSETTO:+0100
TZNAME:CET
DTSTART:20261025T010000
END:STANDARD
BEGIN:DAYLIGHT
TZOFFSETFROM:+0100
TZOFFSETTO:+0200
TZNAME:CEST
DTSTART:20270328T010000
END:DAYLIGHT
BEGIN:STANDARD
TZOFFSETFROM:+0200
TZOFFSETTO:+0100
TZNAME:CET
DTSTART:20271031T010000
END:STANDARD
END:VTIMEZONE
BEGIN:VEVENT
DTSTART;TZID=Europe/Paris:20260329T163000
DTEND;TZID=Europe/Paris:20260329T180000
DTSTAMP:20260422T165846
CREATED:20260302T133224Z
LAST-MODIFIED:20260302T134434Z
UID:8511-1774801800-1774807200@asca-chorales-alsace.com
SUMMARY:Festi' Coeur Colmar à Turckheim
DESCRIPTION:
URL:https://asca-chorales-alsace.com/event/festi-coeur-colmar-a-turckheim/
LOCATION:Eglise Sainte-Anne de Turckheim\, rue Ste Anne\, Turckheim\, Haut-Rhin\, 68 230\, France
END:VEVENT
BEGIN:VEVENT
DTSTART;VALUE=DATE:20260315
DTEND;VALUE=DATE:20260316
DTSTAMP:20260422T165846
CREATED:20251021T110959Z
LAST-MODIFIED:20260114T151950Z
UID:8346-1773532800-1773619199@asca-chorales-alsace.com
SUMMARY:Stage de perfectionnement du 15 mars 2026
DESCRIPTION:Invitation stage 2026 (3) \nRenseignements-deroulement du stage Kleebach 2026 \nfiche d’inscription 2026
URL:https://asca-chorales-alsace.com/event/stage-de-perfectionnement-2/
LOCATION:Le Kleebach\, route du kleebach\, Munster\, Ht Rhin\, 68140\, France
END:VEVENT
BEGIN:VEVENT
DTSTART;TZID=Europe/Paris:20260314T140000
DTEND;TZID=Europe/Paris:20260314T180000
DTSTAMP:20260422T165846
CREATED:20251021T110641Z
LAST-MODIFIED:20260114T151602Z
UID:8344-1773496800-1773511200@asca-chorales-alsace.com
SUMMARY:Stage de perfectionnement du 14 mars 2026
DESCRIPTION:Invitation stage 2026 (3) \nRenseignements-deroulement du stage Kleebach 2026 \nfiche d’inscription 2026
URL:https://asca-chorales-alsace.com/event/stage-de-perfectionnement-2026/
LOCATION:Le Kleebach\, route du kleebach\, Munster\, Ht Rhin\, 68140\, France
END:VEVENT
BEGIN:VEVENT
DTSTART;VALUE=DATE:20251012
DTEND;VALUE=DATE:20251013
DTSTAMP:20260422T165846
CREATED:20231116T132303Z
LAST-MODIFIED:20250419T095704Z
UID:7246-1760227200-1760313599@asca-chorales-alsace.com
SUMMARY:Congrès 2025 de l'ASCA
DESCRIPTION:L’assemblée générale 2025 de l’Association des Sociétés Chorales d’Alsace se tiendra le 12 octobre 2025  \nà la Maison du Kleebach à Munster. \nLes informations seront diffusées ultérieurement
URL:https://asca-chorales-alsace.com/event/congres-2025/
LOCATION:Le Kleebach\, route du kleebach\, Munster\, Ht Rhin\, 68140\, France
END:VEVENT
BEGIN:VEVENT
DTSTART;TZID=Europe/Paris:20250927T200000
DTEND;TZID=Europe/Paris:20250927T220000
DTSTAMP:20260422T165846
CREATED:20250902T182740Z
LAST-MODIFIED:20250902T183603Z
UID:8282-1759003200-1759010400@asca-chorales-alsace.com
SUMMARY:Concert du 170e anniversaire à Sélestat
DESCRIPTION:  \n 
URL:https://asca-chorales-alsace.com/event/concert-du-170e-anniversaire-a-selestat/
LOCATION:Eglise Notre-Dame de la Paix de Sélestat\, 21 avenue Louis Pasteur\, Sélestat\, Bas-Rhin\, 67 600\, France
END:VEVENT
BEGIN:VEVENT
DTSTART;TZID=Europe/Paris:20250615T170000
DTEND;TZID=Europe/Paris:20250615T190000
DTSTAMP:20260422T165846
CREATED:20250501T080705Z
LAST-MODIFIED:20250501T081602Z
UID:8117-1750006800-1750014000@asca-chorales-alsace.com
SUMMARY:Concert du 170ème anniversaire de l'ASCA
DESCRIPTION:  \n 
URL:https://asca-chorales-alsace.com/event/concert-du-170eme-anniversaire-de-lasca-2/
LOCATION:Eglise protestante du Neudorf de Strasbourg\, 144 route du Polygone\, Strasbourg\, Bas-Rhin\, 67 100\, France
END:VEVENT
BEGIN:VEVENT
DTSTART;TZID=Europe/Paris:20250614T170000
DTEND;TZID=Europe/Paris:20250614T190000
DTSTAMP:20260422T165846
CREATED:20250501T074025Z
LAST-MODIFIED:20250512T122008Z
UID:8111-1749920400-1749927600@asca-chorales-alsace.com
SUMMARY:Concert du 170ème anniversaire de l'ASCA
DESCRIPTION:Projet fédérateur à l’occasion du 170e anniversaire de  \nL’ASSOCIATION DES SOCIETES CHORALES D’ALSACE (ASCA) \nLe projet artistique : « … Et la lumière fut … » \nL’année 2025 marquera le 170e anniversaire de la création de l’Association des Sociétés Chorales d’Alsace (ASCA).Pour fêter cet événement\, l’ASCA prépare un projet fédérateur\, en invitant les choristes membres de l’ASCA à se joindre à « Euphonia »\, chœur régional mixte créé en 2016\, pour préparer un grand concert qui sera donné dans chacun des deux départements de l’Alsace.Cette initiative s’inscrit dans la poursuite de tisser un lien social fort entre les membres choristes de l’ASCA et les chef-fe-s de chœur.Plus qu’un concert\, ce projet fête la rencontre entre amateurs et professionnels autour d’une composition commandée spécialement à cette occasion. \nRéflexion et création musicales avec des partenaires professionnels \nPour élaborer le programme et accompagner les choristes amateurs participant au projet\, l’ASCA a fait appel à plusieurs intervenants professionnels. Catherine FENDER\, cheffe emblématique dont la renommée n’est plus à faire en Alsace et Outre-Rhin a accepté de rejoindre cette aventure aux côtés de Clotilde GABORIT et Clément CHARLON\, tous deux chefs de chœur professionnels. Les choristes travailleront sur une œuvre inédite composée spécialement pour cette occasion par Bernard LIENHARDT : « Lux Aeterna » pour 4 voix mixtes\, piano et violoncelle.  Depuis janvier 2024\, une répétition mensuelle regroupe à Sélestat 80 choristes qui travaillent un répertoire de 16 pièces dont « Lux Aeterna ». \nConcert anniversaire en 2025 \nCe programme sera présenté en 2025 dans le cadre de deux concerts sous la thématique       « Et la lumière fut … » : \n\nle samedi 14 juin à Mulhouse au Temple Saint-Etienne et\nle dimanche 15 juin à Strasbourg à l’église protestante de Strasbourg-Neudorf\n\nDeux autres dates de concerts seront programmées au cours du second semestre 2025. \nL’association et « Euphonia » le chœur régional de l’ASCA \nDécouverte et exigence musicale par des encadrants professionnels \nPour répondre à un certain nombre de choristes qui voulaient s’ouvrir à d’autres formes de répétitions et de répertoires et cherchaient une nouvelle approche de la direction de chœur\, l’ASCA a créé en 2016 « Euphonia »\, le chœur régional de l’ASCA. Le but de ce chœur\, qui se réunit une fois par mois à Sélestat avec quelques 80 choristes\, est d’aider à la pérennisation du chant choral amateur en Alsace.Toujours à la recherche d’un nouveau regard sur le chant choral\, et grâce à de jeunes chef-fe-s issu-e-s de nos conservatoires alsaciens\, Euphonia se veut être une vitrine pour l’avenir de notre association. Depuis 2016\, une gazette mensuelle informe les choristes du programme des répétitions et garde ainsi un lien important au sein du groupe. C’est dans ce cadre-là que l’association a souhaité fêter l’année prochaine son 170e anniversaire. \nClotilde GABORIT et Clément CHARLON assurent la direction d’Euphonia en partenariat avec les chefs des chorales qui le souhaitent. Catherine FENDER supervisera le déroulement du concert et la mise en scène du programme.  \n  \n \n Euphonia\, le chœur régional de l’ASCA \nL’association et son histoire \nL’association a été créée en 1855 dans l’euphorie du développement spectaculaire du chant choral qui a vu la création de nombreux chœurs\, dans les deux départements alsaciens. \nChaque année à la Pentecôte\, un festival rassemblait les sociétés alsaciennes avec celles des provinces et des états voisins. Le point culminant de cette épopée fut la rencontre d’Hector Berlioz avec l’Association des Sociétés Chorales d’Alsace en 1863 lors d’un concert monumental donné Place Kléber à Strasbourg. Ce concert a réuni 500 musiciens et mille choristes pour l’interprétation de « l’Oratorio (l’Enfance du Christ) » sous la direction du compositeur lui-même. \nLes divers conflits\, qui ont marqué l’Alsace à la fin du XIXe siècle et au début du XXe\, n’ont pas conduit à la cessation des activités de l’association. En 1941\, l’association comptait 134 chorales inscrites. Elle compte aujourd’hui encore 40 chorales affiliées avec près de 1 200 choristes sur la scène régionale. Ces chorales d’amateurs occupent une place importante dans notre paysage alsacien ; elles traversent les âges et les époques et comptent\, pour certaines\, plus de 100 ans d’ancienneté. Régulièrement elles se produisent en concerts dans le cadre des fêtes de Noël\, de la Semaine Sainte\, mais aussi à l’occasion d’œuvres caritatives. \nPROGRAMME MUSICAL DES CONCERTS DU 170e anniversaire \n « … Et la lumière fut … » \n\nAdemius Karl                                                                    JENKINS (1944)\nAn Irish Blessing                                      James E. MOORE (1951–2022)\nBo yavo habocker                                          Josep HADAR (1926–2006)\nCantar                                                                    Jay ALTHOUSE (1951)\nCuncti simus           Llibre Vermell de MONTSSERRAT (Anonyme 14e s.)\nEarth song                                                               Frank TICHELI (1958)\nErquike mich                                                 Albert BECKER (1834–1899)\nFreedom Trilogy                                                        Paul HALLEY (1952)\nGlow                                                                      Eric WHITACRE (1970)\nHalling fra sinja        Gjermund LARSEN (1981) – Arr. Grete PEDERSEN\nKeep your lamps                                                   André THOMAS (1952)\nLe soleil et la lune        Charles TRENET (1913-2001) – Arr. P-G VERNY\nSignore delle cime                                         Giuseppe De MARZI (1935)\nSunrise\, sunset     Jerry BOCK & Sheldon HARNICK –  Arr. Jean MISLIN\nTabortüznél                                                    Lajos BARDOS (1899-1986)\nLux Aeterna               Bernard LIENHARDT (1951)\, compositeur alsacien.\n\n  \n  \n  \n  \n  \n  \n  \n  \n  \n  \n  \n 
URL:https://asca-chorales-alsace.com/event/concert-du-170eme-anniversaire-de-lasca/
LOCATION:Temple Protestant Saint-Etienne de Mulhouse\, Place de la Réunion\, Mulhouse\, Haut-Rhin\, 68200\, France
END:VEVENT
BEGIN:VEVENT
DTSTART;TZID=Europe/Paris:20250528T140000
DTEND;TZID=Europe/Paris:20250528T180000
DTSTAMP:20260422T165847
CREATED:20250107T095256Z
LAST-MODIFIED:20250412T095157Z
UID:7792-1748440800-1748455200@asca-chorales-alsace.com
SUMMARY:Festi'Chant 2025 de Mulhouse
DESCRIPTION:
URL:https://asca-chorales-alsace.com/event/festichant-colmar/
LOCATION:Théâtre de la Sinne\, 39\, rue de la sinne\, Mulhouse\, Haut-Rhin\, 68200\, France
END:VEVENT
BEGIN:VEVENT
DTSTART;TZID=Europe/Paris:20250323T163000
DTEND;TZID=Europe/Paris:20250323T180000
DTSTAMP:20260422T165847
CREATED:20250127T105002Z
LAST-MODIFIED:20250319T101229Z
UID:7887-1742747400-1742752800@asca-chorales-alsace.com
SUMMARY:Festi'Chant de Colmar
DESCRIPTION:z \n  \n  \n 
URL:https://asca-chorales-alsace.com/event/festichant-de-colmar-2/
LOCATION:Eglise Sainte-Anne de Turckheim\, rue Ste Anne\, Turckheim\, Haut-Rhin\, 68 230\, France
END:VEVENT
BEGIN:VEVENT
DTSTART;VALUE=DATE:20250315
DTEND;VALUE=DATE:20250317
DTSTAMP:20260422T165847
CREATED:20250105T130305Z
LAST-MODIFIED:20251222T111934Z
UID:7768-1741996800-1742169599@asca-chorales-alsace.com
SUMMARY:Stage de perfectionnement 2025 au Kleebach
DESCRIPTION:Informations
URL:https://asca-chorales-alsace.com/event/stage-de-perfectionnement-au-kleebach/
LOCATION:Le Kleebach\, route du kleebach\, Munster\, Ht Rhin\, 68140\, France
END:VEVENT
BEGIN:VEVENT
DTSTART;VALUE=DATE:20241020
DTEND;VALUE=DATE:20241021
DTSTAMP:20260422T165847
CREATED:20231116T131708Z
LAST-MODIFIED:20231116T170838Z
UID:7242-1729382400-1729468799@asca-chorales-alsace.com
SUMMARY:Congrès 2024 de l'ASCA
DESCRIPTION:L’assemblée générale 2024 de l’Association des Sociétés Chorales d’Alsace se tiendra le 20 octobre 2024 \n à la Maison du Kleebach à Munster. \nLes informations seront diffusées ultérieurement
URL:https://asca-chorales-alsace.com/event/congres-2024-de-lassociation-ds-societes-chorales-dalsace/
LOCATION:Le Kleebach\, route du kleebach\, Munster\, Ht Rhin\, 68140\, France
END:VEVENT
BEGIN:VEVENT
DTSTART;TZID=Europe/Paris:20240522T140000
DTEND;TZID=Europe/Paris:20240522T170000
DTSTAMP:20260422T165847
CREATED:20231116T131309Z
LAST-MODIFIED:20231118T105341Z
UID:7238-1716386400-1716397200@asca-chorales-alsace.com
SUMMARY:Festi' Chant de Mulhouse
DESCRIPTION:Le Festi’Chant de Mulhouse se tiendra le 22 mai 2024 \nau Théâtre de la Sinne à Mulhouse. \nLes informations seront diffusées ultérieurement \n 
URL:https://asca-chorales-alsace.com/event/festi-chant-de-mulhouse-2/
LOCATION:Théâtre de la Sinne\, 39\, rue de la sinne\, Mulhouse\, Haut-Rhin\, 68200\, France
END:VEVENT
BEGIN:VEVENT
DTSTART;TZID=Europe/Paris:20240410T140000
DTEND;TZID=Europe/Paris:20240410T170000
DTSTAMP:20260422T165847
CREATED:20231116T130710Z
LAST-MODIFIED:20240402T203716Z
UID:7233-1712757600-1712768400@asca-chorales-alsace.com
SUMMARY:Festi' Chant de Strasbourg ! Annulé !
DESCRIPTION:Le Festi’ Chant de Strasbourg se tiendra le 10 avril 2024 \n à la salle Marcel Marceau de Strasbourg-Neudorf. \nLes informations seront diffusées ultérieurement
URL:https://asca-chorales-alsace.com/event/festi-chant-de-strasbourg-2/
LOCATION:Centre Culturel Marcel Marceau de Strasbourg\, 5 Place Albert Schweitzer\, Strasbourg\, Bas-Rhin\, 67100\, France
END:VEVENT
BEGIN:VEVENT
DTSTART;TZID=Europe/Paris:20240402T000000
DTEND;TZID=Europe/Paris:20240402T000000
DTSTAMP:20260422T165847
CREATED:20240402T203622Z
LAST-MODIFIED:20240402T203622Z
UID:6997-1712016000-1712016000@asca-chorales-alsace.com
SUMMARY:Festi'chant Strasbourg 2024   ! Annulé !
DESCRIPTION:
URL:https://asca-chorales-alsace.com/event/festichant-strasbourg-2024-annule/
LOCATION:Haut-Rhin
END:VEVENT
BEGIN:VEVENT
DTSTART;TZID=Europe/Paris:20240317T140000
DTEND;TZID=Europe/Paris:20240317T170000
DTSTAMP:20260422T165847
CREATED:20231116T125902Z
LAST-MODIFIED:20231116T170348Z
UID:7229-1710684000-1710694800@asca-chorales-alsace.com
SUMMARY:Festi'Chant de Colmar
DESCRIPTION:Le Festi’ Chant 2024 de Colmar se tiendra \n au Théâtre municipal de Colmar le 17 mars 2024. \nLes informations seront diffusées ultérieurement. \n 
URL:https://asca-chorales-alsace.com/event/festichant-de-colmar/
LOCATION:Théâtre de Colmar\, rue des Unterlindens\, Colmar\, Ht Rhin\, 68100\, France
END:VEVENT
BEGIN:VEVENT
DTSTART;VALUE=DATE:20240309
DTEND;VALUE=DATE:20240311
DTSTAMP:20260422T165847
CREATED:20231116T125308Z
LAST-MODIFIED:20240124T090725Z
UID:7225-1709942400-1710115199@asca-chorales-alsace.com
SUMMARY:Stage de perfectionnement 2024
DESCRIPTION:Stage de perfectionnement 2024 \n \nLa maison du Kleebach\, route du Kleebach\, Munster\, Haut-Rhin\, France \nLe prochain stage de perfectionnement\, organisé par l’Association des Sociétés Chorales d’Alsace aura lieu les 09 et 10 mars 2024. \nInvitation stage 2024 \nRenseignements stage Kleebach 2024 \nTalon réponse stage 2024
URL:https://asca-chorales-alsace.com/event/stage-de-perfectionnement-2024/
LOCATION:Le Kleebach\, route du kleebach\, Munster\, Ht Rhin\, 68140\, France
END:VEVENT
BEGIN:VEVENT
DTSTART;VALUE=DATE:20231105
DTEND;VALUE=DATE:20231106
DTSTAMP:20260422T165847
CREATED:20230506T085901Z
LAST-MODIFIED:20230506T090352Z
UID:7003-1699142400-1699228799@asca-chorales-alsace.com
SUMMARY:Congrès 2023 de l'Association des Sociétés Chorales d'Alsace
DESCRIPTION:
URL:https://asca-chorales-alsace.com/event/congres-2023-de-lassociation-des-societes-chorales-dalsace/
LOCATION:Le Kleebach\, route du kleebach\, Munster\, Ht Rhin\, 68140\, France
END:VEVENT
BEGIN:VEVENT
DTSTART;TZID=Europe/Paris:20230607T140000
DTEND;TZID=Europe/Paris:20230607T170000
DTSTAMP:20260422T165847
CREATED:20230506T085023Z
LAST-MODIFIED:20230506T112359Z
UID:6999-1686146400-1686157200@asca-chorales-alsace.com
SUMMARY:Festi'Chant Strasbourg  "Annulé"
DESCRIPTION:  \n 
URL:https://asca-chorales-alsace.com/event/6999/
LOCATION:Centre Culturel Marcel Marceau de Strasbourg\, 5 Place Albert Schweitzer\, Strasbourg\, Bas-Rhin\, 67100\, France
END:VEVENT
BEGIN:VEVENT
DTSTART;TZID=Europe/Paris:20230503T140000
DTEND;TZID=Europe/Paris:20230503T170000
DTSTAMP:20260422T165847
CREATED:20230315T101309Z
LAST-MODIFIED:20230315T101645Z
UID:6843-1683122400-1683133200@asca-chorales-alsace.com
SUMMARY:Festi'Chant au théâtre de la Sinne à Mulhouse
DESCRIPTION:
URL:https://asca-chorales-alsace.com/event/festichant-au-theatre-de-la-sinne-a-mulhouse/
LOCATION:Théâtre de la Sinne\, 39\, rue de la sinne\, Mulhouse\, Haut-Rhin\, 68200\, France
END:VEVENT
BEGIN:VEVENT
DTSTART;TZID=Europe/Paris:20230326T140000
DTEND;TZID=Europe/Paris:20230326T170000
DTSTAMP:20260422T165847
CREATED:20230315T090608Z
LAST-MODIFIED:20230315T101816Z
UID:6818-1679839200-1679850000@asca-chorales-alsace.com
SUMMARY:Festi'Chant au théâtre municipal de Colmar
DESCRIPTION:
URL:https://asca-chorales-alsace.com/event/festichant-au-theatre-municipal-de-colmar/
LOCATION:Théâtre de Colmar\, rue des Unterlindens\, Colmar\, Ht Rhin\, 68100\, France
END:VEVENT
BEGIN:VEVENT
DTSTART;VALUE=DATE:20230318
DTEND;VALUE=DATE:20230320
DTSTAMP:20260422T165847
CREATED:20211114T115336Z
LAST-MODIFIED:20230112T100327Z
UID:5826-1679097600-1679270399@asca-chorales-alsace.com
SUMMARY:Stage de perfectionnement
DESCRIPTION:Nous sommes heureux de vous inviter à notre stage de perfectionnement au Kleebach du 18 et 19 mars 2023. \nLe stage sera animé par deux intervenantes: Clotilde GARBORIT et Mathilde MERTZ \nVous trouverez ci-dessous les renseignements. \nInvitation \n Renseignements et déroulement du stage \nTalon d’inscription \n \n 
URL:https://asca-chorales-alsace.com/event/stage-de-perfectionnement/
LOCATION:Le Kleebach\, route du kleebach\, Munster\, Ht Rhin\, 68140\, France
END:VEVENT
BEGIN:VEVENT
DTSTART;TZID=Europe/Paris:20221210T181500
DTEND;TZID=Europe/Paris:20221210T200000
DTSTAMP:20260422T165848
CREATED:20221109T214422Z
LAST-MODIFIED:20221129T182408Z
UID:6476-1670696100-1670702400@asca-chorales-alsace.com
SUMMARY:En route vers Noël avec Euphonia
DESCRIPTION:En route vers NoëlLe choeur régional de l’Association des Sociétés Chorales d’Alsace  en concert\navec le choeur d’hommes Union de Kolbsheim et la chorale La Voix des Rails.Les trois ensembles ont concocté un programme Noël.   \n \nProgramme \n \n  \n  \n  \n  \n  \n  \n  \n  \n  \n  \n  \n  \n  \n  \n  \n  \n 
URL:https://asca-chorales-alsace.com/event/en-route-vers-noel-avec-euphonia/
LOCATION:Eglise Notre-Dame de la Paix de Sélestat\, 21 avenue Louis Pasteur\, Sélestat\, Bas-Rhin\, 67 600\, France
END:VEVENT
BEGIN:VEVENT
DTSTART;VALUE=DATE:20221016
DTEND;VALUE=DATE:20221017
DTSTAMP:20260422T165848
CREATED:20211016T151447Z
LAST-MODIFIED:20211016T152429Z
UID:5648-1665878400-1665964799@asca-chorales-alsace.com
SUMMARY:Congrès 2022
DESCRIPTION:Le prochain congrès de l’Association des Sociétés Chorales d’Alsace aura lieu au Kleebach le 16 octobre 2022. \nLes informations suivront. 
URL:https://asca-chorales-alsace.com/event/congres-2022/
LOCATION:Le Kleebach\, route du kleebach\, Munster\, Ht Rhin\, 68140\, France
END:VEVENT
BEGIN:VEVENT
DTSTART;VALUE=DATE:20220608
DTEND;VALUE=DATE:20220609
DTSTAMP:20260422T165848
CREATED:20211114T124832Z
LAST-MODIFIED:20230505T225012Z
UID:5836-1654646400-1654732799@asca-chorales-alsace.com
SUMMARY:Festi ' Chant de Strasbourg
DESCRIPTION:  \nCliquez ci-dessous pour les renseignements: \nRenseignements \n  \n \n  \n  \n  \n  \n  \n  \n  \n  \n  \n  \n  \n 
URL:https://asca-chorales-alsace.com/event/festi-chant-de-strasbourg/
LOCATION:Centre Culturel Marcel Marceau de Strasbourg\, 5 Place Albert Schweitzer\, Strasbourg\, Bas-Rhin\, 67100\, France
END:VEVENT
BEGIN:VEVENT
DTSTART;VALUE=DATE:20220522
DTEND;VALUE=DATE:20220523
DTSTAMP:20260422T165848
CREATED:20211114T121232Z
LAST-MODIFIED:20220316T094851Z
UID:5828-1653177600-1653263999@asca-chorales-alsace.com
SUMMARY:Festi ' Chant de Colmar
DESCRIPTION:  \nCliquez ci-dessous pour les renseignements: \nRenseignements \n  \n \n  \n  \n  \n  \n  \n  \n  \n  \n 
URL:https://asca-chorales-alsace.com/event/festi-chant-de-colmar/
LOCATION:Théâtre de Colmar\, rue des Unterlindens\, Colmar\, Ht Rhin\, 68100\, France
END:VEVENT
BEGIN:VEVENT
DTSTART;VALUE=DATE:20220518
DTEND;VALUE=DATE:20220519
DTSTAMP:20260422T165848
CREATED:20211114T123615Z
LAST-MODIFIED:20220316T095130Z
UID:5832-1652832000-1652918399@asca-chorales-alsace.com
SUMMARY:Festi ' Chant de Mulhouse
DESCRIPTION:  \nCliquez ci-dessous pour les renseignements: \nRenseignements \n  \n \n  \n  \n  \n  \n  \n  \n  \n  \n 
URL:https://asca-chorales-alsace.com/event/festi-chant-de-mulhouse/
LOCATION:Théâtre de la Sinne\, 39\, rue de la sinne\, Mulhouse\, Haut-Rhin\, 68200\, France
END:VEVENT
BEGIN:VEVENT
DTSTART;TZID=Europe/Paris:20211204T170000
DTEND;TZID=Europe/Paris:20211204T180000
DTSTAMP:20260422T165849
CREATED:20211109T171122Z
LAST-MODIFIED:20211124T193912Z
UID:5801-1638637200-1638640800@asca-chorales-alsace.com
SUMMARY:Concert De Noël organisé par l'ASCA
DESCRIPTION:
URL:https://asca-chorales-alsace.com/event/concert-de-noel-organise-par-lasca/
LOCATION:Eglise de l’Assomption de la bienheureuse Vierge-Marie de Bergheim\, 2A Grand-Rue\, Bergheim\, Haut-Rhin\, 68750\, France
END:VEVENT
BEGIN:VEVENT
DTSTART;TZID=Europe/Paris:20211010T080000
DTEND;TZID=Europe/Paris:20211010T160000
DTSTAMP:20260422T165849
CREATED:20210305T145208Z
LAST-MODIFIED:20211016T153811Z
UID:5436-1633852800-1633881600@asca-chorales-alsace.com
SUMMARY:Congrès 2021
DESCRIPTION:Le congrès du 10 octobre 2021 s’est déroulé à la maison du Kleebach. En raison de la pandémie et des nouvelles mesures en vigueur\, le nombre de personnes n’était plus limité \n\nInvitation\nOrdre du jour\nCoup de pouce\n\n 
URL:https://asca-chorales-alsace.com/event/congres-2021/
LOCATION:Le Kleebach\, route du kleebach\, Munster\, Ht Rhin\, 68140\, France
END:VEVENT
BEGIN:VEVENT
DTSTART;TZID=Europe/Paris:20201018T090000
DTEND;TZID=Europe/Paris:20201018T150000
DTSTAMP:20260422T165849
CREATED:20191103T085815Z
LAST-MODIFIED:20200911T093352Z
UID:4806-1603011600-1603033200@asca-chorales-alsace.com
SUMMARY:Congrès 2020 de l'Association des Sociétés Chorales d'Alsace
DESCRIPTION:Le prochain congrès de l’Association des Sociétés Chorales d’Alsace aura lieu le 18 octobre 2020 au Kleebach. Pour des raisons sanitaires dû au Covid 19\, le Kleebach ne pourra qu’accueillir un nombre restreint de personnes pour pouvoir respecter les règles sanitaires. \nVeuillez consulter les documents ci-joint et  répondre à l’aide du talon-réponse de votre participation: \nInvitation \nOrdre du jour \nCompte-rendu 2019 \nCoup de pouce \n  \n 
URL:https://asca-chorales-alsace.com/event/congres-2020-de-lassociation-des-societes-chorales-dalsace/
LOCATION:Le Kleebach\, route du kleebach\, Munster\, Ht Rhin\, 68140\, France
END:VEVENT
BEGIN:VEVENT
DTSTART;TZID=Europe/Paris:20191020T163000
DTEND;TZID=Europe/Paris:20191020T180000
DTSTAMP:20260422T165849
CREATED:20190429T133942Z
LAST-MODIFIED:20190925T175834Z
UID:4411-1571589000-1571594400@asca-chorales-alsace.com
SUMMARY:Concert du choeur régional EUPHONIA et du choeur d'hommes de Griesbach au Val
DESCRIPTION:C’est le 20 octobre prochain sous l’égide de l’ASCA\, que le choeur régional Euphonia et le choeur d’hommes de Griesbach au Val donneront un concert au temple protestant de Munster à 16 h 30.   \n  \n \n  \n  \n  \n 
URL:https://asca-chorales-alsace.com/event/concert-du-choeur-regional-euphonia-a-munster/
LOCATION:Haut-Rhin
END:VEVENT
END:VCALENDAR