BEGIN:VCALENDAR
VERSION:2.0
PRODID:-//Association des sociétés chorales d&#039;Alsace - ECPv6.15.20//NONSGML v1.0//EN
CALSCALE:GREGORIAN
METHOD:PUBLISH
X-ORIGINAL-URL:https://asca-chorales-alsace.com
X-WR-CALDESC:Évènements pour Association des sociétés chorales d&#039;Alsace
REFRESH-INTERVAL;VALUE=DURATION:PT1H
X-Robots-Tag:noindex
X-PUBLISHED-TTL:PT1H
BEGIN:VTIMEZONE
TZID:Europe/Paris
BEGIN:DAYLIGHT
TZOFFSETFROM:+0100
TZOFFSETTO:+0200
TZNAME:CEST
DTSTART:20250330T010000
END:DAYLIGHT
BEGIN:STANDARD
TZOFFSETFROM:+0200
TZOFFSETTO:+0100
TZNAME:CET
DTSTART:20251026T010000
END:STANDARD
BEGIN:DAYLIGHT
TZOFFSETFROM:+0100
TZOFFSETTO:+0200
TZNAME:CEST
DTSTART:20260329T010000
END:DAYLIGHT
BEGIN:STANDARD
TZOFFSETFROM:+0200
TZOFFSETTO:+0100
TZNAME:CET
DTSTART:20261025T010000
END:STANDARD
BEGIN:DAYLIGHT
TZOFFSETFROM:+0100
TZOFFSETTO:+0200
TZNAME:CEST
DTSTART:20270328T010000
END:DAYLIGHT
BEGIN:STANDARD
TZOFFSETFROM:+0200
TZOFFSETTO:+0100
TZNAME:CET
DTSTART:20271031T010000
END:STANDARD
END:VTIMEZONE
BEGIN:VEVENT
DTSTART;TZID=Europe/Paris:20260603T140000
DTEND;TZID=Europe/Paris:20260603T180000
DTSTAMP:20260422T164934
CREATED:20251021T111717Z
LAST-MODIFIED:20260124T190833Z
UID:8349-1780495200-1780509600@asca-chorales-alsace.com
SUMMARY:FESTI'CHANT Mulhouse 2026
DESCRIPTION:
URL:https://asca-chorales-alsace.com/event/festichant-mulhouse-2026/
LOCATION:Théâtre de la Sinne\, 39\, rue de la sinne\, Mulhouse\, Haut-Rhin\, 68200\, France
END:VEVENT
BEGIN:VEVENT
DTSTART;VALUE=DATE:20261025
DTEND;VALUE=DATE:20261026
DTSTAMP:20260422T164934
CREATED:20251022T163347Z
LAST-MODIFIED:20260111T100728Z
UID:8371-1792886400-1792972799@asca-chorales-alsace.com
SUMMARY:Congrès de l'Association des Sociétés Chorales d'Alsace
DESCRIPTION:
URL:https://asca-chorales-alsace.com/event/congres-de-association-des-societes-chorales-dalsace/
LOCATION:Le Kleebach\, route du kleebach\, Munster\, Ht Rhin\, 68140\, France
END:VEVENT
END:VCALENDAR